BEGIN:VCALENDAR
VERSION:2.0
PRODID:-//Société d&#039;Horticulture des Deux-Sèvres - ECPv6.15.20//NONSGML v1.0//EN
CALSCALE:GREGORIAN
METHOD:PUBLISH
X-WR-CALNAME:Société d&#039;Horticulture des Deux-Sèvres
X-ORIGINAL-URL:https://horticulture79.org
X-WR-CALDESC:Évènements pour Société d&#039;Horticulture des Deux-Sèvres
REFRESH-INTERVAL;VALUE=DURATION:PT1H
X-Robots-Tag:noindex
X-PUBLISHED-TTL:PT1H
BEGIN:VTIMEZONE
TZID:Europe/Paris
BEGIN:DAYLIGHT
TZOFFSETFROM:+0100
TZOFFSETTO:+0200
TZNAME:CEST
DTSTART:20250330T010000
END:DAYLIGHT
BEGIN:STANDARD
TZOFFSETFROM:+0200
TZOFFSETTO:+0100
TZNAME:CET
DTSTART:20251026T010000
END:STANDARD
BEGIN:DAYLIGHT
TZOFFSETFROM:+0100
TZOFFSETTO:+0200
TZNAME:CEST
DTSTART:20260329T010000
END:DAYLIGHT
BEGIN:STANDARD
TZOFFSETFROM:+0200
TZOFFSETTO:+0100
TZNAME:CET
DTSTART:20261025T010000
END:STANDARD
BEGIN:DAYLIGHT
TZOFFSETFROM:+0100
TZOFFSETTO:+0200
TZNAME:CEST
DTSTART:20270328T010000
END:DAYLIGHT
BEGIN:STANDARD
TZOFFSETFROM:+0200
TZOFFSETTO:+0100
TZNAME:CET
DTSTART:20271031T010000
END:STANDARD
END:VTIMEZONE
BEGIN:VEVENT
DTSTART;TZID=Europe/Paris:20260419T143000
DTEND;TZID=Europe/Paris:20260419T153000
DTSTAMP:20260424T133027
CREATED:20260402T121618Z
LAST-MODIFIED:20260403T150405Z
UID:3978-1776609000-1776612600@horticulture79.org
SUMMARY:Conférence : Jardiner demain\, s'adapter aujourd'hui
DESCRIPTION:Par Béatrice Avril\, pépiniériste\, ancienne professeure d’horticulture. Elle a créé son jardin en 2015\, à la frontière de la Vendée. Elle s’est spécialisée dans les plantes pollinifères\, nectarifères\, de haie fruitière à baies\, résistantes à la sécheresse et à la canicule. « Dès ma formation\, fin des années 1980\, j’étais sensibilisée aux problématiques environnementales et aux enjeux de la ressource en eau »\, explique-t-elle avec passion. \nDans le cadre de la Fête des Plantes\, Printemps aux Jardins. (Prix d’entrée de la Fête des Plantes : 3 euros pour les non adhérents\, gratuit pour les enfants de moins de 12 ans). \n 
URL:https://horticulture79.org/activite/conference-beatrice-avril/
LOCATION:Ferme communale de Chey\, Ferme de Chey\, impasse de Chey\, 79000 Niort\, Niort\, 79000\, France
CATEGORIES:Conférence
ATTACH;FMTTYPE=image/jpeg:https://horticulture79.org/wp-content/uploads/2026/04/beatrice-avril-mfpougnard-2.jpg
END:VEVENT
END:VCALENDAR