BEGIN:VCALENDAR
VERSION:2.0
PRODID:-//Société d&#039;Horticulture des Deux-Sèvres - ECPv6.15.20//NONSGML v1.0//EN
CALSCALE:GREGORIAN
METHOD:PUBLISH
X-WR-CALNAME:Société d&#039;Horticulture des Deux-Sèvres
X-ORIGINAL-URL:https://horticulture79.org
X-WR-CALDESC:Évènements pour Société d&#039;Horticulture des Deux-Sèvres
REFRESH-INTERVAL;VALUE=DURATION:PT1H
X-Robots-Tag:noindex
X-PUBLISHED-TTL:PT1H
BEGIN:VTIMEZONE
TZID:Europe/Paris
BEGIN:DAYLIGHT
TZOFFSETFROM:+0100
TZOFFSETTO:+0200
TZNAME:CEST
DTSTART:20250330T010000
END:DAYLIGHT
BEGIN:STANDARD
TZOFFSETFROM:+0200
TZOFFSETTO:+0100
TZNAME:CET
DTSTART:20251026T010000
END:STANDARD
BEGIN:DAYLIGHT
TZOFFSETFROM:+0100
TZOFFSETTO:+0200
TZNAME:CEST
DTSTART:20260329T010000
END:DAYLIGHT
BEGIN:STANDARD
TZOFFSETFROM:+0200
TZOFFSETTO:+0100
TZNAME:CET
DTSTART:20261025T010000
END:STANDARD
BEGIN:DAYLIGHT
TZOFFSETFROM:+0100
TZOFFSETTO:+0200
TZNAME:CEST
DTSTART:20270328T010000
END:DAYLIGHT
BEGIN:STANDARD
TZOFFSETFROM:+0200
TZOFFSETTO:+0100
TZNAME:CET
DTSTART:20271031T010000
END:STANDARD
END:VTIMEZONE
BEGIN:VEVENT
DTSTART;TZID=Europe/Paris:20260419T113000
DTEND;TZID=Europe/Paris:20260419T123000
DTSTAMP:20260424T115546
CREATED:20260402T114853Z
LAST-MODIFIED:20260403T145637Z
UID:3975-1776598200-1776601800@horticulture79.org
SUMMARY:Conférence : Les systèmes d'arrosage économiques
DESCRIPTION:Par Caroline Scott-Perget\, conceptrice de jardins\, spécialiste des jardins nourriciers.\n« Grâce à plus de 15 années d’expérience dans l’aménagement paysager\, je transmets aujourd’hui mon savoir et ma passion du jardin et notamment celle pour les plantes ornementales comestibles. » \nDans le cadre de la Fête des Plantes Printemps aux Jardins. (Prix d’entrée de la Fête des Plantes : 3 euros pour les non adhérents\, gratuit pour les enfants de moins de 12 ans). \nPour préparer cette conférence découvrez son site :  https://www.caroline-scott-perget.com/
URL:https://horticulture79.org/activite/conference-caroline-scott-perget/
LOCATION:Ferme communale de Chey\, Ferme de Chey\, impasse de Chey\, 79000 Niort\, Niort\, 79000\, France
CATEGORIES:Conférence
ATTACH;FMTTYPE=image/jpeg:https://horticulture79.org/wp-content/uploads/2026/04/caroline-scott-perget.jpg
END:VEVENT
END:VCALENDAR