BEGIN:VCALENDAR
VERSION:2.0
PRODID:-//Société d&#039;Horticulture des Deux-Sèvres - ECPv6.15.20//NONSGML v1.0//EN
CALSCALE:GREGORIAN
METHOD:PUBLISH
X-WR-CALNAME:Société d&#039;Horticulture des Deux-Sèvres
X-ORIGINAL-URL:https://horticulture79.org
X-WR-CALDESC:Évènements pour Société d&#039;Horticulture des Deux-Sèvres
REFRESH-INTERVAL;VALUE=DURATION:PT1H
X-Robots-Tag:noindex
X-PUBLISHED-TTL:PT1H
BEGIN:VTIMEZONE
TZID:Europe/Paris
BEGIN:DAYLIGHT
TZOFFSETFROM:+0100
TZOFFSETTO:+0200
TZNAME:CEST
DTSTART:20250330T010000
END:DAYLIGHT
BEGIN:STANDARD
TZOFFSETFROM:+0200
TZOFFSETTO:+0100
TZNAME:CET
DTSTART:20251026T010000
END:STANDARD
BEGIN:DAYLIGHT
TZOFFSETFROM:+0100
TZOFFSETTO:+0200
TZNAME:CEST
DTSTART:20260329T010000
END:DAYLIGHT
BEGIN:STANDARD
TZOFFSETFROM:+0200
TZOFFSETTO:+0100
TZNAME:CET
DTSTART:20261025T010000
END:STANDARD
BEGIN:DAYLIGHT
TZOFFSETFROM:+0100
TZOFFSETTO:+0200
TZNAME:CEST
DTSTART:20270328T010000
END:DAYLIGHT
BEGIN:STANDARD
TZOFFSETFROM:+0200
TZOFFSETTO:+0100
TZNAME:CET
DTSTART:20271031T010000
END:STANDARD
END:VTIMEZONE
BEGIN:VEVENT
DTSTART;TZID=Europe/Paris:20260412T150000
DTEND;TZID=Europe/Paris:20260412T180000
DTSTAMP:20260424T101717
CREATED:20260402T101550Z
LAST-MODIFIED:20260402T180004Z
UID:3953-1776006000-1776016800@horticulture79.org
SUMMARY:Portes ouvertes : le Parc Métayer
DESCRIPTION:Ouverture spéciale pour admirer le rosier de Banks. Ce rosier grimpe tout en haut du cyprès du Parc Métayer et sa floraison en avril est très courte : venez\, venez. \nLe Parc Métayer se visite le 3ème dimanche de chaque mois de 15h à 18h  (sauf intempéries\, férié\, hiver…). \nIl est ouvert à tous et toutes. Des bénévoles vous accueillent\, répondent à vos questions et si vous le souhaitez\, vous font une petite visite commentée. \nTout au long des allées du Parc des panneaux explicatifs vous informent sur ses arbres remarquables\, la tonte raisonnée\,…
URL:https://horticulture79.org/activite/portes-ouvertes-le-parc-metayer-2/
LOCATION:Parc Métayer\, Société d'Horticulture des Deux-Sèvres\, 37 quai Métayer\, 79000 Niort\, France
CATEGORIES:Portes ouvertes
ATTACH;FMTTYPE=image/jpeg:https://horticulture79.org/wp-content/uploads/2026/04/rosier-banks-mfpougnard-scaled.jpg
END:VEVENT
END:VCALENDAR